BEGIN:VCALENDAR
VERSION:2.0
PRODID:icalendar-ruby
CALSCALE:GREGORIAN
METHOD:PUBLISH
BEGIN:VEVENT
DTSTAMP:20260423T072545Z
UID:13-269094@zionucc.com
DTSTART:20261101T140000Z
DTEND:20261101T150000Z
CLASS:PUBLIC
CREATED:20260422T231828
DESCRIPTION:Contemporary Worship
LAST-MODIFIED:20260422T231828
LOCATION:
SUMMARY:Contemporary Worship
URL;VALUE=URI:https://www.zionucc.com/events/contemporary-worship/2026-11-0
 1
END:VEVENT
END:VCALENDAR
