BEGIN:VCALENDAR
VERSION:2.0
PRODID:icalendar-ruby
CALSCALE:GREGORIAN
METHOD:PUBLISH
BEGIN:VEVENT
DTSTAMP:20260423T035117Z
UID:13-269092@zionucc.com
DTSTART:20261018T130000Z
DTEND:20261018T140000Z
CLASS:PUBLIC
CREATED:20260422T231828
DESCRIPTION:Contemporary Worship
LAST-MODIFIED:20260422T231828
LOCATION:
SUMMARY:Contemporary Worship
URL;VALUE=URI:https://www.zionucc.com/events/contemporary-worship/2026-10-1
 8
END:VEVENT
END:VCALENDAR
