BEGIN:VCALENDAR
VERSION:2.0
PRODID:icalendar-ruby
CALSCALE:GREGORIAN
METHOD:PUBLISH
BEGIN:VEVENT
DTSTAMP:20260423T004119Z
UID:13-268976@zionucc.com
DTSTART:20261004T130000Z
DTEND:20261004T140000Z
CLASS:PUBLIC
CREATED:20260422T202357
DESCRIPTION:Contemporary Worship
LAST-MODIFIED:20260422T202357
LOCATION:
SUMMARY:Contemporary Worship
URL;VALUE=URI:https://www.zionucc.com/events/contemporary-worship/2026-10-0
 4
END:VEVENT
END:VCALENDAR
