BEGIN:VCALENDAR
VERSION:2.0
PRODID:icalendar-ruby
CALSCALE:GREGORIAN
METHOD:PUBLISH
BEGIN:VEVENT
DTSTAMP:20260422T212713Z
UID:13-268746@zionucc.com
DTSTART:20260920T130000Z
DTEND:20260920T140000Z
CLASS:PUBLIC
CREATED:20260422T143704
DESCRIPTION:Contemporary Worship
LAST-MODIFIED:20260422T143704
LOCATION:
SUMMARY:Contemporary Worship
URL;VALUE=URI:https://www.zionucc.com/events/contemporary-worship/2026-09-2
 0
END:VEVENT
END:VCALENDAR
