BEGIN:VCALENDAR
VERSION:2.0
PRODID:icalendar-ruby
CALSCALE:GREGORIAN
METHOD:PUBLISH
BEGIN:VEVENT
DTSTAMP:20260422T181014Z
UID:13-268630@zionucc.com
DTSTART:20260906T130000Z
DTEND:20260906T140000Z
CLASS:PUBLIC
CREATED:20260422T114234
DESCRIPTION:Contemporary Worship
LAST-MODIFIED:20260422T114234
LOCATION:
SUMMARY:Contemporary Worship
URL;VALUE=URI:https://www.zionucc.com/events/contemporary-worship/2026-09-0
 6
END:VEVENT
END:VCALENDAR
