BEGIN:VCALENDAR
VERSION:2.0
PRODID:icalendar-ruby
CALSCALE:GREGORIAN
METHOD:PUBLISH
BEGIN:VEVENT
DTSTAMP:20260422T145049Z
UID:13-268512@zionucc.com
DTSTART:20260823T130000Z
DTEND:20260823T140000Z
CLASS:PUBLIC
CREATED:20260422T084718
DESCRIPTION:Contemporary Worship
LAST-MODIFIED:20260422T084718
LOCATION:
SUMMARY:Contemporary Worship
URL;VALUE=URI:https://www.zionucc.com/events/contemporary-worship/2026-08-2
 3
END:VEVENT
END:VCALENDAR
