BEGIN:VCALENDAR
VERSION:2.0
PRODID:icalendar-ruby
CALSCALE:GREGORIAN
METHOD:PUBLISH
BEGIN:VEVENT
DTSTAMP:20260422T112945Z
UID:13-268395@zionucc.com
DTSTART:20260809T130000Z
DTEND:20260809T140000Z
CLASS:PUBLIC
CREATED:20260421T213838
DESCRIPTION:Contemporary Worship
LAST-MODIFIED:20260421T213838
LOCATION:
SUMMARY:Contemporary Worship
URL;VALUE=URI:https://www.zionucc.com/events/contemporary-worship/2026-08-0
 9
END:VEVENT
END:VCALENDAR
