BEGIN:VCALENDAR
VERSION:2.0
PRODID:icalendar-ruby
CALSCALE:GREGORIAN
METHOD:PUBLISH
BEGIN:VEVENT
DTSTAMP:20260422T095143Z
UID:13-268394@zionucc.com
DTSTART:20260802T130000Z
DTEND:20260802T140000Z
CLASS:PUBLIC
CREATED:20260421T213838
DESCRIPTION:Contemporary Worship
LAST-MODIFIED:20260421T213838
LOCATION:
SUMMARY:Contemporary Worship
URL;VALUE=URI:https://www.zionucc.com/events/contemporary-worship/2026-08-0
 2
END:VEVENT
END:VCALENDAR
